BEGIN:VCALENDAR
VERSION:2.0
METHOD:PUBLISH
PRODID:-//imacoda.com//SPD-Web-O-Mat//EN
CALSCALE:GREGORIAN
BEGIN:VTIMEZONE
TZID:Europe/Berlin
BEGIN:DAYLIGHT
TZOFFSETFROM:+0100
RRULE:FREQ=YEARLY;BYMONTH=3;BYDAY=-1SU
DTSTART:19810329T020000
TZNAME:MESZ
TZOFFSETTO:+0200
END:DAYLIGHT
BEGIN:STANDARD
TZOFFSETFROM:+0200
RRULE:FREQ=YEARLY;BYMONTH=10;BYDAY=-1SU
DTSTART:19961027T030000
TZNAME:MEZ
TZOFFSETTO:+0100
END:STANDARD
END:VTIMEZONE
BEGIN:VEVENT
UID:20220126T092121Z-00000739856-LULU@www.bayernspd.de
CREATED:20220126T092121Z
LAST-MODIFIED:20220126T092131Z
DTSTAMP:20220126T092131Z
TRANSP:TRANSPARENT
DTSTART;VALUE=DATE:20220509
DTEND;VALUE=DATE:20220514
SUMMARY:Sitzungswoche Deutscher Bundestag
LOCATION:
DESCRIPTION:Termin im Web (Dr. Bärbel Kofler):\nhttps://baerbel-kofler.d
 e/termine/?id=739856
END:VEVENT
END:VCALENDAR
